BEGIN:VCALENDAR
VERSION:2.0
PRODID:-//wp-events-plugin.com//7.2.3.1//EN
TZID:Europe/Helsinki
X-WR-TIMEZONE:Europe/Helsinki
BEGIN:VEVENT
UID:305@helsinginraamattukoulu.fi
DTSTART;TZID=Europe/Helsinki:20250424T161500
DTEND;TZID=Europe/Helsinki:20250424T183000
DTSTAMP:20250115T161117Z
URL:https://helsinginraamattukoulu.fi/events/raamatun-alustus-ja-keskustel
 utilaisuus-2-2025-04-24/
SUMMARY:Raamatun alustus- ja keskustelutilaisuus: Paimenkirjeet
DESCRIPTION:Torstaisin Triplan Fokuksessa\, Kevät 2025\nPaavalin paimenkir
 jeet Timoteukselle ja Titukselle\n\nTorstaisin klo 16.15–17.45 Raamattua
 lustus- ja keskustelutilaisuudet Paavalin paimenkirjeistä Timoteukselle j
 a Titukselle Töölön seurakunnan monitoimitila Fokuksessa\, kauppakesku
 s Mall of Triplan 5. kerroksessa.\nAlustajina Jari A. Jolkkonen\, Anki Arp
 iainen\, Kirsti Kosonen\, Vuokko Kuokkanen\, Anne Takala ja Hannu Äimäne
 n.\n\nKevät 2025\n09.01. Paavali vankina Kesareassa (Ap.t. 24:1–25:12)\
 , Jari\n16.01. Paavali kuulusteltavana (Ap.t. 25:13–26:32)\, Jari\n23.01
 . Jumala toimii omiensa kautta (Ap.t. 27)\, Anne\n30.01. Paavali Roomassa 
 (Ap.t. 28)\, Jari\n06.02. Laki ja Jumalan armo (1. Tim. 1)\, Hannu\n13.02.
  Ohjeita rukoukseen (1. Tim. 2)\, Vuokko\n20.02. Seurakunnan palvelutehtä
 vistä (1.Tim. 3)\, Anki\n27.02. Eksyttävät opetukset ja ohjeita Timoteu
 kselle(1.Tim. 4)\, Jari\n06.03. Lesket ja seurakunnan vanhimmat (1. Tim. 5
 )\, Hannu\n13.03. Kutsu kilvoitukseen (1. Tim. 6)\, Kirsti\n20.03. Rohkais
 un sanoja (2. Tim. 1)\, Jari\n27.03 Kehotus vaivannäköön (2. Tim. 2)\, 
 Anki\n03.04. Lopunajan ihmiset ja pyhät kirjoitukset (2. Tim. 3)\, Hannu\
 n10.04. Paavalin jäähyväiset (2. Tim. 4)\, Anne\n17.04. Haasteiden mies
  (Tiit. 1:1-2:10)\, Jari\n24.04. Kristittynä maailmassa(Tiit. 2:11-3:15)\
 , Anki\n01.05. Ei pidetä\n08.05. Ei enää orjana (Filemon)\, Jari\n\nLue
 nnot toteutetaan yhteistyössä\nHelsingin Raamattukoulun ja Töölön seu
 rakunnan kanssa.
CATEGORIES:Keskustelupiiri,Paikkana_Helsinki,Uuden testamentin opetus
LOCATION:Monitoimitila Fokus\, kauppakeskus Tripla\, 5. krs\, Kauppakeskus 
 Tripla\, 5. krs Soul Streets\, Fredikanterassi 1\, Helsinki\, 00520\, Suom
 i
X-APPLE-STRUCTURED-LOCATION;VALUE=URI;X-ADDRESS=Kauppakeskus Tripla\, 5. kr
 s Soul Streets\, Fredikanterassi 1\, Helsinki\, 00520\, Suomi;X-APPLE-RADI
 US=100;X-TITLE=Monitoimitila Fokus\, kauppakeskus Tripla\, 5. krs:geo:0,0
END:VEVENT
BEGIN:VTIMEZONE
TZID:Europe/Helsinki
X-LIC-LOCATION:Europe/Helsinki
BEGIN:DAYLIGHT
DTSTART:20250330T040000
TZOFFSETFROM:+0200
TZOFFSETTO:+0300
TZNAME:EEST
END:DAYLIGHT
END:VTIMEZONE
END:VCALENDAR