BEGIN:VCALENDAR
VERSION:2.0
PRODID:-//wp-events-plugin.com//7.2.3.1//EN
TZID:Europe/Helsinki
X-WR-TIMEZONE:Europe/Helsinki
BEGIN:VEVENT
UID:326@helsinginraamattukoulu.fi
DTSTART;TZID=Europe/Helsinki:20250121T130000
DTEND;TZID=Europe/Helsinki:20250121T150000
DTSTAMP:20250117T135516Z
URL:https://helsinginraamattukoulu.fi/events/raamattualustus-jesajan-kirja
 sta-2025-01-21/
SUMMARY:Raamatun alustus- ja keskustelutilaisuus: Jes.
DESCRIPTION:\nTemppeliaukion kirkon takkahuoneessa käsittelemme tiistaisin
  Jesajan kirjaa.- klo 13–14 raamattualustus - klo 14–15 luentokahvit j
 a keskusteluaLuentojen alustajina Jari A. Jolkkonen\, Vesa Kosonen\, Marja
  Heimala-Pelkonen\, Mirjam Söderqvist\, Hannu Äimänen ja Liisi Jokirant
 a.\n\n\n\nKevät 202514.01.  Egypti (Jes. 30–31)\, Hannu21.01.  Vanhur
 skaus ja rukous (Jes. 32–33) Mirjam28.01.  Edomin tuho ja pelastuksen i
 lo (Jes. 34–35)\, Marja04.02.  Herra varjelee Jerusalemia (Jes. 36–39
 )\, Mirjam11.02.  Lohduttakaa minun kansaani (Jes. 40–41)\, Pekka18.02.
   Herra kokoaa kansansa (Jes. 42–43)\, Hannu25.02. Vanhurskas ja auttav
 a Jumala (Jes. 44–45)\, Jari04.03. Vapauteen kutsutut (Jes. 46–48)\, M
 irjam11.03.  Herran palvelija tuo pelastuksen (Jes. 49–50)\, Marja18.03
 . Ilosanoman tuojan askeleet (Jes. 51:1–52:12)\, Liisi25.03. Kärsivän 
 palvelijan evankeliumi (Jes. 52:13–53:12)\, Vesa01.04. Kutsu armoliittoo
 n (Jes. 54–55)\, Marja08.04. Herra on kärsivän ja nöyrän luona (Jes.
  56–57)\, Mirjam15.04. Jumala ei ole kuuro (Jes. 58–59)\, Jari22.04. H
 erran valo\, kirkkaus ja voideltu (Jes. 60–61)\, Marja29.04. Jerusalem\,
  ylistys ja rukous(Jes. 62–64)\, Mirjam06.05. Uusi taivas ja uusi maa(Je
 s. 65–66)\, Hannu\n\n\n\n\n\nLuennot toteutetaan yhteistyössä Helsingi
 n Raamattukoulun ja Töölön seurakunnan kanssa.\n
CATEGORIES:Keskustelupiiri,Paikkana_Helsinki,Vanhan testamentin opetus
LOCATION:Temppeliaukion kirkko\, takkahuone\, Temppelikatu 16 A\, Helsinki\
 , 00100\, Suomi
X-APPLE-STRUCTURED-LOCATION;VALUE=URI;X-ADDRESS=Temppelikatu 16 A\, Helsink
 i\, 00100\, Suomi;X-APPLE-RADIUS=100;X-TITLE=Temppeliaukion kirkko\, takka
 huone:geo:0,0
END:VEVENT
BEGIN:VTIMEZONE
TZID:Europe/Helsinki
X-LIC-LOCATION:Europe/Helsinki
BEGIN:STANDARD
DTSTART:20241027T030000
TZOFFSETFROM:+0300
TZOFFSETTO:+0200
TZNAME:EET
END:STANDARD
END:VTIMEZONE
END:VCALENDAR